        BEGIN:VCALENDAR
PRODID:-//NIFTEM-K//Geetanjali Events//EN
VERSION:2.0
CALSCALE:GREGORIAN
METHOD:PUBLISH
BEGIN:VEVENT
UID:event-16@geetanjali.niftem.in
DTSTAMP:20260426T042258Z
DTSTART:20260207T100000Z
DTEND:20260207T120000Z
SUMMARY:TEDxNIFTEM
LOCATION:NIFTEM Auditorium
DESCRIPTION:Echoes from the Deep explores how hidden experiences and u
 nspoken truths, when brought to light, resonate far beyond their origi
 n - shaping individuals, communities, and the future.
URL:https://geetanjali.niftem.in/events/view.php?id=16
END:VEVENT
END:VCALENDAR
