        BEGIN:VCALENDAR
PRODID:-//NIFTEM-K//Geetanjali Events//EN
VERSION:2.0
CALSCALE:GREGORIAN
METHOD:PUBLISH
BEGIN:VEVENT
UID:event-18@geetanjali.niftem.in
DTSTAMP:20260426T042359Z
DTSTART:20260418T103000Z
DTEND:20260418T123000Z
SUMMARY:NIFTEM MUN ( 2nd Edition )
DESCRIPTION:🌍 About NIFTEM MUN (2nd Edition) The NIFTEM Model Unite
 d Nations (NIFTEM MUN), organized by Geetanjali – The Literary Socie
 ty of NIFTEM-K, is a dynamic platform where ideas, diplomacy, and deba
 te converge. Bringing together bright minds from across universities, 
 the conference simulates the workings of the United Nations, encouragi
 ng students to engage in critical global discussions, sharpen their di
 plomacy, and cultivate leadership skills. This year, with its 2nd Edit
 ion, NIFTEM MUN promises: • Engaging Committees & Agendas tackling c
 ontemporary international challenges. • Diverse Participation from B
 .Tech, M.Tech, Ph.D., and inter-college delegates. • Skill Developme
 nt in research, negotiation, public speaking, and consensus-building. 
 • A Platform for Voices to shape perspectives on pressing world issu
 es. At its heart, NIFTEM MUN is not just a debate – it is a celebrat
 ion of youth diplomacy, cultural exchange, and collaborative problem-s
 olving, preparing future leaders to think globally and act responsibly
 . ✨ Diplomacy. Dialogue. Debate. ✨
URL:https://geetanjali.niftem.in/events/view.php?id=18
END:VEVENT
END:VCALENDAR
