        BEGIN:VCALENDAR
PRODID:-//NIFTEM-K//Geetanjali Events//EN
VERSION:2.0
CALSCALE:GREGORIAN
METHOD:PUBLISH
BEGIN:VEVENT
UID:event-24@geetanjali.niftem.in
DTSTAMP:20260426T042258Z
DTSTART:20260116T183000Z
DTEND:20260116T203000Z
SUMMARY:Film Thinking ft. Dead Poets Society
LOCATION:NIFTEM Auditorium
DESCRIPTION:Film Thinking presents a reflective screening of Dead Poet
 s Society, a timeless cinematic ode to free thought, literature, and t
 he courage to challenge convention. Set in a traditional academic envi
 ronment, the film follows an unconventional teacher who inspires his s
 tudents to embrace poetry, question norms, and “seize the day.” Th
 e session invites participants to engage beyond the screen—through d
 iscussion and introspection—exploring themes of individuality, creat
 ivity, conformity, and the transformative power of words. Film Thinkin
 g continues Geetanjali’s endeavor to use cinema as a lens for dialog
 ue, self-discovery, and literary appreciation.
URL:https://geetanjali.niftem.in/events/view.php?id=24
END:VEVENT
END:VCALENDAR
