        BEGIN:VCALENDAR
PRODID:-//NIFTEM-K//Geetanjali Events//EN
VERSION:2.0
CALSCALE:GREGORIAN
METHOD:PUBLISH
BEGIN:VEVENT
UID:event-26@geetanjali.niftem.in
DTSTAMP:20260426T042101Z
DTSTART:20260320T180000Z
DTEND:20260320T200000Z
SUMMARY:Film Thinking ft. F1: The Movie
LOCATION:NIFTEM Auditorium
DESCRIPTION:Geetanjali – The Literary Society invites students to an
  engaging Film Thinking session featuring the film F1. This session ai
 ms to explore themes of perseverance, teamwork, mentorship, and the re
 lentless pursuit of excellence through the high-stakes world of Formul
 a 1 racing. More than just a sports film, F1 offers powerful insights 
 into human ambition, resilience after setbacks, and the importance of 
 collaboration under pressure. Following the screening, participants wi
 ll have the opportunity to reflect and discuss the deeper ideas presen
 ted in the film, encouraging critical thinking and meaningful dialogue
 . The Film Thinking series continues Geetanjali’s initiative to use 
 cinema as a medium for intellectual exploration, creativity, and thoug
 htful discussion among students.
URL:https://geetanjali.niftem.in/events/view.php?id=26
END:VEVENT
END:VCALENDAR
