        BEGIN:VCALENDAR
PRODID:-//NIFTEM-K//Geetanjali Events//EN
VERSION:2.0
CALSCALE:GREGORIAN
METHOD:PUBLISH
BEGIN:VEVENT
UID:event-8@geetanjali.niftem.in
DTSTAMP:20260426T042216Z
DTSTART:20260418T100000Z
DTEND:20260418T120000Z
SUMMARY:Literary Fest
LOCATION:NIFTEM Auditorium & Seminar Halls
DESCRIPTION:Join us for the most anticipated literary event of the yea
 r! "InkScribe 2025" brings together a vibrant celebration of words, cr
 eativity, and literary talent. Featuring renowned authors, insightful 
 workshops, thrilling competitions like poetry slams and debates, and e
 ngaging panel discussions. Discover new voices, hone your skills, and 
 immerse yourself in the world of literature. Open to all NIFTEM-K stud
 ents and faculty.
URL:https://geetanjali.niftem.in/events/view.php?id=8
END:VEVENT
END:VCALENDAR
